BEGIN:VCALENDAR
VERSION:2.0
PRODID:-//ChurchDev//Events//EN
CALSCALE:GREGORIAN
METHOD:PUBLISH
BEGIN:VEVENT
UID:3052-20260418@www.waterfordchristian.com
SUMMARY:Men&#8217\;s Breakfast at Wicked Googly
DTSTART:20260418T130000Z
DTEND:20260418T140000Z
DESCRIPTION:https://www.waterfordchristian.com/events/mens-breakfast-at-wicked-googly/
LOCATION:Ligonier\, PA
URL:https://www.waterfordchristian.com/events/mens-breakfast-at-wicked-googly/
DTSTAMP:20260419T205928Z
END:VEVENT
END:VCALENDAR
