BEGIN:VCALENDAR
VERSION:2.0
PRODID:-//ChurchDev//Events//EN
CALSCALE:GREGORIAN
METHOD:PUBLISH
BEGIN:VEVENT
UID:3051-20260411@www.waterfordchristian.com
SUMMARY:Hiking with Jesus at Winnie Palmer
DTSTART:20260411T133000Z
DTEND:20260411T143000Z
DESCRIPTION:https://www.waterfordchristian.com/events/hiking-with-jesus-at-winnie-palmer/
LOCATION:Ligonier\, PA
URL:https://www.waterfordchristian.com/events/hiking-with-jesus-at-winnie-palmer/
DTSTAMP:20260419T205934Z
END:VEVENT
END:VCALENDAR
