BEGIN:VCALENDAR
VERSION:2.0
PRODID:-//ChurchDev//Events//EN
CALSCALE:GREGORIAN
METHOD:PUBLISH
BEGIN:VEVENT
UID:3048-20260516@www.waterfordchristian.com
SUMMARY:Rummage Sale
DTSTART:20260516T130000Z
DTEND:20260516T170000Z
DESCRIPTION:https://www.waterfordchristian.com/events/rummage-sale/
LOCATION:Ligonier\, PA
URL:https://www.waterfordchristian.com/events/rummage-sale/
DTSTAMP:20260419T224830Z
END:VEVENT
END:VCALENDAR
