BEGIN:VCALENDAR
VERSION:2.0
PRODID:-//ChurchDev//Events//EN
CALSCALE:GREGORIAN
METHOD:PUBLISH
BEGIN:VEVENT
UID:3026-20260617@www.waterfordchristian.com
SUMMARY:Vacation Bible Study
DTSTART;VALUE=DATE:20260617
DTEND;VALUE=DATE:20260618
DESCRIPTION:https://www.waterfordchristian.com/events/vacation-bible-study-2/
LOCATION:Ligonier\, PA
URL:https://www.waterfordchristian.com/events/vacation-bible-study-2/
DTSTAMP:20260419T224027Z
END:VEVENT
END:VCALENDAR
