BEGIN:VCALENDAR
VERSION:2.0
PRODID:-//ChurchDev//Events//EN
CALSCALE:GREGORIAN
METHOD:PUBLISH
BEGIN:VEVENT
UID:3025-20260517@www.waterfordchristian.com
SUMMARY:Mommy &#038\; Me Event at CCW
DTSTART:20260517T150000Z
DTEND:20260517T160000Z
DESCRIPTION:All Moms are invited to join us with their children for a Mommy &amp\; Me event to celebrate Mother&#8217\;s Day.\\n\\nhttps://www.waterfordchristian.com/events/mommy-me-event-at-ccw/
LOCATION:Ligonier\, PA
URL:https://www.waterfordchristian.com/events/mommy-me-event-at-ccw/
DTSTAMP:20260419T224142Z
END:VEVENT
END:VCALENDAR
