BEGIN:VCALENDAR
VERSION:2.0
PRODID:-//ChurchDev//Events//EN
CALSCALE:GREGORIAN
METHOD:PUBLISH
BEGIN:VEVENT
UID:3024-20260404@www.waterfordchristian.com
SUMMARY:Easter Egg Hunt
DTSTART:20260404T190000Z
DTEND:20260404T200000Z
DESCRIPTION:https://www.waterfordchristian.com/events/easter-egg-hunt-2/
LOCATION:Ligonier\, PA
URL:https://www.waterfordchristian.com/events/easter-egg-hunt-2/
DTSTAMP:20260419T205936Z
END:VEVENT
END:VCALENDAR
